BEGIN:VCALENDAR
VERSION:2.0
PRODID:-//Bridge of Allan Community Council - ECPv6.15.20//NONSGML v1.0//EN
CALSCALE:GREGORIAN
METHOD:PUBLISH
X-WR-CALNAME:Bridge of Allan Community Council
X-ORIGINAL-URL:https://www.ccbridgeofallan.org.uk
X-WR-CALDESC:Events for Bridge of Allan Community Council
REFRESH-INTERVAL;VALUE=DURATION:PT1H
X-Robots-Tag:noindex
X-PUBLISHED-TTL:PT1H
BEGIN:VTIMEZONE
TZID:Europe/London
BEGIN:DAYLIGHT
TZOFFSETFROM:+0000
TZOFFSETTO:+0100
TZNAME:BST
DTSTART:20220327T010000
END:DAYLIGHT
BEGIN:STANDARD
TZOFFSETFROM:+0100
TZOFFSETTO:+0000
TZNAME:GMT
DTSTART:20221030T010000
END:STANDARD
BEGIN:DAYLIGHT
TZOFFSETFROM:+0000
TZOFFSETTO:+0100
TZNAME:BST
DTSTART:20230326T010000
END:DAYLIGHT
BEGIN:STANDARD
TZOFFSETFROM:+0100
TZOFFSETTO:+0000
TZNAME:GMT
DTSTART:20231029T010000
END:STANDARD
BEGIN:DAYLIGHT
TZOFFSETFROM:+0000
TZOFFSETTO:+0100
TZNAME:BST
DTSTART:20240331T010000
END:DAYLIGHT
BEGIN:STANDARD
TZOFFSETFROM:+0100
TZOFFSETTO:+0000
TZNAME:GMT
DTSTART:20241027T010000
END:STANDARD
END:VTIMEZONE
BEGIN:VEVENT
DTSTART;TZID=Europe/London:20230508T110000
DTEND;TZID=Europe/London:20230508T120000
DTSTAMP:20260419T132934
CREATED:20230425T074724Z
LAST-MODIFIED:20230425T074724Z
UID:7168-1683543600-1683547200@www.ccbridgeofallan.org.uk
SUMMARY:Coronation Tree Planting
DESCRIPTION:The Friends of Bridge of Allan invite all to attend a tree planting to commemorate the Coronation of King Charles III. \nThe ceremony will be performed by Provost Douglas Dodds on Monday 8 May at 11am at the Triangle park at the junction of Keir Street and Westerton Drive. \nA new sign will also be unveiled to rename the ‘Triangle’ as The Royal Garden. \nWe hope you will be able to attend to mark this historical occasion and look forward to seeing you there.
URL:https://www.ccbridgeofallan.org.uk/event/coronation-tree-planting/
LOCATION:The Triangle\, Keir Street
ATTACH;FMTTYPE=image/jpeg:https://www.ccbridgeofallan.org.uk/wp-content/uploads/2023/04/friends-coronation-2023.jpg
END:VEVENT
END:VCALENDAR