BEGIN:VCALENDAR
VERSION:2.0
PRODID:-//Bridge of Allan Community Council - ECPv6.15.20//NONSGML v1.0//EN
CALSCALE:GREGORIAN
METHOD:PUBLISH
X-ORIGINAL-URL:https://www.ccbridgeofallan.org.uk
X-WR-CALDESC:Events for Bridge of Allan Community Council
REFRESH-INTERVAL;VALUE=DURATION:PT1H
X-Robots-Tag:noindex
X-PUBLISHED-TTL:PT1H
BEGIN:VTIMEZONE
TZID:Europe/London
BEGIN:DAYLIGHT
TZOFFSETFROM:+0000
TZOFFSETTO:+0100
TZNAME:BST
DTSTART:20210328T010000
END:DAYLIGHT
BEGIN:STANDARD
TZOFFSETFROM:+0100
TZOFFSETTO:+0000
TZNAME:GMT
DTSTART:20211031T010000
END:STANDARD
BEGIN:DAYLIGHT
TZOFFSETFROM:+0000
TZOFFSETTO:+0100
TZNAME:BST
DTSTART:20220327T010000
END:DAYLIGHT
BEGIN:STANDARD
TZOFFSETFROM:+0100
TZOFFSETTO:+0000
TZNAME:GMT
DTSTART:20221030T010000
END:STANDARD
BEGIN:DAYLIGHT
TZOFFSETFROM:+0000
TZOFFSETTO:+0100
TZNAME:BST
DTSTART:20230326T010000
END:DAYLIGHT
BEGIN:STANDARD
TZOFFSETFROM:+0100
TZOFFSETTO:+0000
TZNAME:GMT
DTSTART:20231029T010000
END:STANDARD
END:VTIMEZONE
BEGIN:VEVENT
DTSTART;TZID=Europe/London:20220807T100000
DTEND;TZID=Europe/London:20220807T170000
DTSTAMP:20260422T073726
CREATED:20220717T205435Z
LAST-MODIFIED:20220718T082624Z
UID:6671-1659866400-1659891600@www.ccbridgeofallan.org.uk
SUMMARY:Bridge of Allan Highland Games
DESCRIPTION:The Directors & Committee of the Strathallan Meeting would like to welcome you on August 7th 2022 to the 171st Bridge of Allan Highland Games. \nGames day starts at 10am and closes 5pm. \nYou can expect food and drinks\, a wide range of stalls\, pipe banks\, dancing heavyweight and wrestling events and more! \nTicket prices for BoA Highland Games\n• Adult ticket = £10\n• Concession ( Seniors\, Student with student card) =£6\n• Children (<16) = £4\n• Family Ticket ( 2 adults + up to 3 kids) = £25\nTickets available on-line via our website http://bofagames.com or http://eventbrite.co.uk
URL:https://www.ccbridgeofallan.org.uk/event/bridge-of-allan-highland-games/
LOCATION:Strathallan Games Park
ATTACH;FMTTYPE=image/jpeg:https://www.ccbridgeofallan.org.uk/wp-content/uploads/2022/07/BofA-Higland-games-1.jpg
END:VEVENT
END:VCALENDAR