BEGIN:VCALENDAR
VERSION:2.0
PRODID:-//Bridge of Allan Community Council - ECPv6.15.20//NONSGML v1.0//EN
CALSCALE:GREGORIAN
METHOD:PUBLISH
X-WR-CALNAME:Bridge of Allan Community Council
X-ORIGINAL-URL:https://www.ccbridgeofallan.org.uk
X-WR-CALDESC:Events for Bridge of Allan Community Council
REFRESH-INTERVAL;VALUE=DURATION:PT1H
X-Robots-Tag:noindex
X-PUBLISHED-TTL:PT1H
BEGIN:VTIMEZONE
TZID:Europe/London
BEGIN:DAYLIGHT
TZOFFSETFROM:+0000
TZOFFSETTO:+0100
TZNAME:BST
DTSTART:20200329T010000
END:DAYLIGHT
BEGIN:STANDARD
TZOFFSETFROM:+0100
TZOFFSETTO:+0000
TZNAME:GMT
DTSTART:20201025T010000
END:STANDARD
BEGIN:DAYLIGHT
TZOFFSETFROM:+0000
TZOFFSETTO:+0100
TZNAME:BST
DTSTART:20210328T010000
END:DAYLIGHT
BEGIN:STANDARD
TZOFFSETFROM:+0100
TZOFFSETTO:+0000
TZNAME:GMT
DTSTART:20211031T010000
END:STANDARD
BEGIN:DAYLIGHT
TZOFFSETFROM:+0000
TZOFFSETTO:+0100
TZNAME:BST
DTSTART:20220327T010000
END:DAYLIGHT
BEGIN:STANDARD
TZOFFSETFROM:+0100
TZOFFSETTO:+0000
TZNAME:GMT
DTSTART:20221030T010000
END:STANDARD
END:VTIMEZONE
BEGIN:VEVENT
DTSTART;TZID=Europe/London:20210202T190000
DTEND;TZID=Europe/London:20210202T200000
DTSTAMP:20260420T025838
CREATED:20210202T121133Z
LAST-MODIFIED:20210202T121133Z
UID:5828-1612292400-1612296000@www.ccbridgeofallan.org.uk
SUMMARY:Blairforkie Drive Planning Webinar
DESCRIPTION:We are hosting a public Zoom Webinar with D.M Hall and Allanwater Homes to address the community’s queries about the application.  The meeting will be on Tuesday 2nd February at 7pm\, the meeting details are below.  \nWe have a panel of residents who have summarised the main questions and concerns and will deliver these to the developers.  Any follow up questions\, sparked by the discussion can be typed into the Q&A/chat function and these will be collated and then passed onto the developer.  We will then publish any responses that we receive from the developer on our website and social media. \nYou are invited to a Zoom webinar.\nWhen: Feb 2\, 2021 07:00 PM London\nTopic: Blairforkie Planning Consultation \nPlease click the link below to join the webinar:\nhttps://us02web.zoom.us/j/86237523539?pwd=T1I0c3NPUk1HSGdmZUlzZmtQMGJpdz09\nPasscode: 808131
URL:https://www.ccbridgeofallan.org.uk/event/blairforkie-drive-planning-webinar/
END:VEVENT
BEGIN:VEVENT
DTSTART;TZID=Europe/London:20210216T193000
DTEND;TZID=Europe/London:20210216T210000
DTSTAMP:20260420T025838
CREATED:20210120T181619Z
LAST-MODIFIED:20210120T181619Z
UID:5817-1613503800-1613509200@www.ccbridgeofallan.org.uk
SUMMARY:February Community Council Meeting
DESCRIPTION:February meeting of the Community Council held via Zoom. \nThe Agenda will be circulated prior to the meeting and will contain the Zoom meeting details
URL:https://www.ccbridgeofallan.org.uk/event/february-community-council-meeting/
END:VEVENT
END:VCALENDAR