BEGIN:VCALENDAR
VERSION:2.0
PRODID:-//Bridge of Allan Community Council - ECPv6.15.20//NONSGML v1.0//EN
CALSCALE:GREGORIAN
METHOD:PUBLISH
X-ORIGINAL-URL:https://www.ccbridgeofallan.org.uk
X-WR-CALDESC:Events for Bridge of Allan Community Council
REFRESH-INTERVAL;VALUE=DURATION:PT1H
X-Robots-Tag:noindex
X-PUBLISHED-TTL:PT1H
BEGIN:VTIMEZONE
TZID:Europe/London
BEGIN:DAYLIGHT
TZOFFSETFROM:+0000
TZOFFSETTO:+0100
TZNAME:BST
DTSTART:20230326T010000
END:DAYLIGHT
BEGIN:STANDARD
TZOFFSETFROM:+0100
TZOFFSETTO:+0000
TZNAME:GMT
DTSTART:20231029T010000
END:STANDARD
BEGIN:DAYLIGHT
TZOFFSETFROM:+0000
TZOFFSETTO:+0100
TZNAME:BST
DTSTART:20240331T010000
END:DAYLIGHT
BEGIN:STANDARD
TZOFFSETFROM:+0100
TZOFFSETTO:+0000
TZNAME:GMT
DTSTART:20241027T010000
END:STANDARD
BEGIN:DAYLIGHT
TZOFFSETFROM:+0000
TZOFFSETTO:+0100
TZNAME:BST
DTSTART:20250330T010000
END:DAYLIGHT
BEGIN:STANDARD
TZOFFSETFROM:+0100
TZOFFSETTO:+0000
TZNAME:GMT
DTSTART:20251026T010000
END:STANDARD
END:VTIMEZONE
BEGIN:VEVENT
DTSTART;TZID=Europe/London:20241122T190000
DTEND;TZID=Europe/London:20241122T203000
DTSTAMP:20260421T205255
CREATED:20241101T185259Z
LAST-MODIFIED:20241102T150103Z
UID:7952-1732302000-1732307400@www.ccbridgeofallan.org.uk
SUMMARY:Drumbrae Community Meeting
DESCRIPTION:The University of Edinburgh Drumbrae team would like to invite the local community to come along to a community meeting to hear from some of the team who are working at the site. \nCome and find out what has been happening so far\, what is coming up\, how you can get involved and share your feedback. They would also love to hear what people would like to see in our community woodland space at Cocksburn Wood. \nYou can find more information about Drumbrae on the website and Story Map here. \nDrumbrae Community meeting poster
URL:https://www.ccbridgeofallan.org.uk/event/drumbrae-community-meeting/
LOCATION:Bridge of Allan Parish Church\, 12 Keir street\, Bridge of Allan\, FK9 4NW
END:VEVENT
END:VCALENDAR