BEGIN:VCALENDAR
VERSION:2.0
PRODID:-//Bridge of Allan Community Council - ECPv6.15.20//NONSGML v1.0//EN
CALSCALE:GREGORIAN
METHOD:PUBLISH
X-ORIGINAL-URL:https://www.ccbridgeofallan.org.uk
X-WR-CALDESC:Events for Bridge of Allan Community Council
REFRESH-INTERVAL;VALUE=DURATION:PT1H
X-Robots-Tag:noindex
X-PUBLISHED-TTL:PT1H
BEGIN:VTIMEZONE
TZID:Europe/London
BEGIN:DAYLIGHT
TZOFFSETFROM:+0000
TZOFFSETTO:+0100
TZNAME:BST
DTSTART:20220327T010000
END:DAYLIGHT
BEGIN:STANDARD
TZOFFSETFROM:+0100
TZOFFSETTO:+0000
TZNAME:GMT
DTSTART:20221030T010000
END:STANDARD
BEGIN:DAYLIGHT
TZOFFSETFROM:+0000
TZOFFSETTO:+0100
TZNAME:BST
DTSTART:20230326T010000
END:DAYLIGHT
BEGIN:STANDARD
TZOFFSETFROM:+0100
TZOFFSETTO:+0000
TZNAME:GMT
DTSTART:20231029T010000
END:STANDARD
BEGIN:DAYLIGHT
TZOFFSETFROM:+0000
TZOFFSETTO:+0100
TZNAME:BST
DTSTART:20240331T010000
END:DAYLIGHT
BEGIN:STANDARD
TZOFFSETFROM:+0100
TZOFFSETTO:+0000
TZNAME:GMT
DTSTART:20241027T010000
END:STANDARD
END:VTIMEZONE
BEGIN:VEVENT
DTSTART;TZID=Europe/London:20230311T100000
DTEND;TZID=Europe/London:20230311T120000
DTSTAMP:20260421T160802
CREATED:20230305T154137Z
LAST-MODIFIED:20230305T155440Z
UID:7030-1678528800-1678536000@www.ccbridgeofallan.org.uk
SUMMARY:Coffee Morning supporting SABOS
DESCRIPTION:Support SABOS this Saturday at their Coffee Morning\nSupport SABOS – Stirling and Bridge of Allan Musical Theatre your local amateur musical theatre group to raise much needed funds.  \n \nThe £5 entry ticket includes tea\, coffee\, cakes and refills! \n \nCheck out their next production: Made in Dagenham\, which will be at the Macrobert Centre\, 28 Mar – 1 April.
URL:https://www.ccbridgeofallan.org.uk/event/coffee-morning-supporting-sabos/
ATTACH;FMTTYPE=image/png:https://www.ccbridgeofallan.org.uk/wp-content/uploads/2023/03/Sabos-coffee-morning.png
END:VEVENT
BEGIN:VEVENT
DTSTART;TZID=Europe/London:20230311T193000
DTEND;TZID=Europe/London:20230311T223000
DTSTAMP:20260421T160802
CREATED:20230129T185645Z
LAST-MODIFIED:20230129T185645Z
UID:6963-1678563000-1678573800@www.ccbridgeofallan.org.uk
SUMMARY:Fair Trade Ceilidh
DESCRIPTION:Get your dancing shoes on and raise money for Fair Trade causes! \nThe annual Stirling Fair Trade ceilidh is back at the Chalmers Hall in Bridge of Allan Parish Church. \nThe fabulous Riverside Ceilidh band will be providing the music and calling.  Raffle and cash bar. \n7.30 pm. Tickets Adults £10\, Students £6\, under 16’s £3 \nTickets available from https://www.ticketsource.co.uk/fairtradestirling 
URL:https://www.ccbridgeofallan.org.uk/event/fair-trade-ceilidh/
ATTACH;FMTTYPE=image/jpeg:https://www.ccbridgeofallan.org.uk/wp-content/uploads/2023/01/2023-fairtrade-ceilidh.jpg
END:VEVENT
END:VCALENDAR