BEGIN:VCALENDAR
VERSION:2.0
PRODID:-//Bridge of Allan Community Council - ECPv6.15.20//NONSGML v1.0//EN
CALSCALE:GREGORIAN
METHOD:PUBLISH
X-WR-CALNAME:Bridge of Allan Community Council
X-ORIGINAL-URL:https://www.ccbridgeofallan.org.uk
X-WR-CALDESC:Events for Bridge of Allan Community Council
REFRESH-INTERVAL;VALUE=DURATION:PT1H
X-Robots-Tag:noindex
X-PUBLISHED-TTL:PT1H
BEGIN:VTIMEZONE
TZID:Europe/London
BEGIN:DAYLIGHT
TZOFFSETFROM:+0000
TZOFFSETTO:+0100
TZNAME:BST
DTSTART:20210328T010000
END:DAYLIGHT
BEGIN:STANDARD
TZOFFSETFROM:+0100
TZOFFSETTO:+0000
TZNAME:GMT
DTSTART:20211031T010000
END:STANDARD
BEGIN:DAYLIGHT
TZOFFSETFROM:+0000
TZOFFSETTO:+0100
TZNAME:BST
DTSTART:20220327T010000
END:DAYLIGHT
BEGIN:STANDARD
TZOFFSETFROM:+0100
TZOFFSETTO:+0000
TZNAME:GMT
DTSTART:20221030T010000
END:STANDARD
BEGIN:DAYLIGHT
TZOFFSETFROM:+0000
TZOFFSETTO:+0100
TZNAME:BST
DTSTART:20230326T010000
END:DAYLIGHT
BEGIN:STANDARD
TZOFFSETFROM:+0100
TZOFFSETTO:+0000
TZNAME:GMT
DTSTART:20231029T010000
END:STANDARD
END:VTIMEZONE
BEGIN:VEVENT
DTSTART;TZID=Europe/London:20220430T110000
DTEND;TZID=Europe/London:20220430T140000
DTSTAMP:20260420T043517
CREATED:20220429T081613Z
LAST-MODIFIED:20220429T081613Z
UID:6501-1651316400-1651327200@www.ccbridgeofallan.org.uk
SUMMARY:Car Boot Sale - Lecropt Kirk
DESCRIPTION:First car boot sale of the season Saturday 30th 11-2 at Lecropt Kirk.  
URL:https://www.ccbridgeofallan.org.uk/event/car-boot-sale-lecropt-kirk/
LOCATION:Lecropt Kirk\, Dunblane Road\, Bridge of Allan\, FK9 4NA
END:VEVENT
BEGIN:VEVENT
DTSTART;TZID=Europe/London:20220430T110000
DTEND;TZID=Europe/London:20220430T150000
DTSTAMP:20260420T043517
CREATED:20220429T080727Z
LAST-MODIFIED:20220429T080727Z
UID:6498-1651316400-1651330800@www.ccbridgeofallan.org.uk
SUMMARY:Arts and Crafts Fayre
DESCRIPTION:Arts and Crafts Fayre on Saturday 30th at the Parish Church 11-3 \nFree teas and coffees\, all sorts of stalls from delicious bites to eco-friendly products. All in aid of the Forever Angels Project
URL:https://www.ccbridgeofallan.org.uk/event/arts-and-crafts-fayre/
END:VEVENT
END:VCALENDAR